BEGIN:VCALENDAR
VERSION:2.0
PRODID:-//Groß-Inzersdorf im Weinviertel - ECPv6.15.20//NONSGML v1.0//EN
CALSCALE:GREGORIAN
METHOD:PUBLISH
X-WR-CALNAME:Groß-Inzersdorf im Weinviertel
X-ORIGINAL-URL:https://www.grossinzersdorf.info
X-WR-CALDESC:Veranstaltungen für Groß-Inzersdorf im Weinviertel
REFRESH-INTERVAL;VALUE=DURATION:PT1H
X-Robots-Tag:noindex
X-PUBLISHED-TTL:PT1H
BEGIN:VTIMEZONE
TZID:Europe/Vienna
BEGIN:DAYLIGHT
TZOFFSETFROM:+0100
TZOFFSETTO:+0200
TZNAME:CEST
DTSTART:20220327T010000
END:DAYLIGHT
BEGIN:STANDARD
TZOFFSETFROM:+0200
TZOFFSETTO:+0100
TZNAME:CET
DTSTART:20221030T010000
END:STANDARD
BEGIN:DAYLIGHT
TZOFFSETFROM:+0100
TZOFFSETTO:+0200
TZNAME:CEST
DTSTART:20230326T010000
END:DAYLIGHT
BEGIN:STANDARD
TZOFFSETFROM:+0200
TZOFFSETTO:+0100
TZNAME:CET
DTSTART:20231029T010000
END:STANDARD
BEGIN:DAYLIGHT
TZOFFSETFROM:+0100
TZOFFSETTO:+0200
TZNAME:CEST
DTSTART:20240331T010000
END:DAYLIGHT
BEGIN:STANDARD
TZOFFSETFROM:+0200
TZOFFSETTO:+0100
TZNAME:CET
DTSTART:20241027T010000
END:STANDARD
END:VTIMEZONE
BEGIN:VEVENT
DTSTART;TZID=Europe/Vienna:20230209T160000
DTEND;TZID=Europe/Vienna:20230213T233000
DTSTAMP:20260424T143000
CREATED:20230126T134600Z
LAST-MODIFIED:20230126T134600Z
UID:33718-1675958400-1676331000@www.grossinzersdorf.info
SUMMARY:Frohner Heuriger
DESCRIPTION:
URL:https://www.grossinzersdorf.info/event/frohner-heuriger/
LOCATION:Heuriger Johann Frohner\, Grossinzersdorf 58\, Grossinzersdorf\, 2225\, Österreich
END:VEVENT
END:VCALENDAR